BEGIN:VCALENDAR
PRODID:-//dvv-bw.de//dvv.Portalplattform//DE
VERSION:2.0
METHOD:PUBLISH
BEGIN:VEVENT
DTSTART:20260509T170000Z
DTEND:20260509T190000Z
DTSTAMP:20260421T195432Z
UID:2455900876-2455900876-1778277600000
SUMMARY:HdMLive - NENYA Trio Veranstaltung
LOCATION:Haus der Musik, Hofstetterstr. 3, 77716 Haslach
DESCRIPTION:Am Samstag 09.05. steht das nächste Konzert ins Haus der Musik in Haslach.
CLASS:PUBLIC
X-ALT-DESC;FMTTYPE=text/html:Am Samstag 09.05. steht das nächste Konzert ins Haus der Musik in Haslach.
END:VEVENT
END:VCALENDAR
